Workbook

Sheet I rok MAT
B1: I rok MATEMATYKA
B2: semestr zimowy 2026/2027
A3: ZJAZD 1
B4: sobota, 3.10.2026 | D4: niedziela, 4.10.2026
D5: ZDALNIE
A6: 08:00-09:30 | B6: Spotkanie z władzami Wydziału, Dzień organizacyjny, godz. 9.30-11.00, s. 108/21 | D6: Analiza matematyczna I, wykład, M. Grochowski, online
A7: 09:45-11:15 | D7: Analiza matematyczna I, wykład, M. Grochowski, online
A8: 11:30-13:00 | B8: Elementy logiki i teorii mnogości, wykład, S. Turek, s. 108/21 | D8: Analiza matematyczna I, wykład, M. Grochowski, do 12:15, online
A9: 13:15-14:45 | B9: Elementy logiki i teorii mnogości, wykład, S. Turek, s. 108/21 | D9: Wprowadzenie do filozofii (Zajęcia z bloku H ), J. Filcek, do 17:15, online
A10: 15:00-16:30
A11: 16:45-18:15
A12: 18:30 -20.00
A13: ZJAZD 2 - ZDALNIE
B14: sobota, 10.10.2026 | D14: niedziela, 11.10.2026
B15: ZDALNIE | D15: ZDALNIE
A16: 08:00-09:30 | B16: Analiza matematyczna I, ćw., B. Tkacz, online | D16: Analiza matematyczna I, wykład, M. Grochowski, online
A17: 09:45-11:15 | B17: Analiza matematyczna I, ćw., B. Tkacz, online | D17: Analiza matematyczna I, wykład, M. Grochowski, online
A18: 11:30-13:00 | B18: Algebra liniowa, wykład, H. Grzebuła, online | D18: Analiza matematyczna I, wykład, M. Grochowski, do 12:15, online
A19: 13:15-14:45 | B19: Algebra liniowa, wykład, H. Grzebuła, online | D19: Wybrane zagadnienia prawa prywatnego. Studium przypadku (Zajęcia z bloku H), B. Kałdon do 17:15, online
A20: 15:00-16:30 | B20: Algebra liniowa, ćw., H. Grzebuła, online
A21: 16:45-18:15 | B21: Algebra liniowa, ćw., H. Grzebuła, online
A22: 18:30 -20.00
A23: ZJAZD 3
B24: sobota, 17.10.2026 | D24: niedziela, 18.10.2026
A26: 08:00-09:30 | B26: Analiza matematyczna I, ćw., B. Tkacz, s. 203/21
A27: 09:45-11:15 | B27: Analiza matematyczna I, ćw., B. Tkacz, s. 203/22 | D27: Elementy logiki i teorii mnogości, wykład, S. Turek, s. 202/21
A28: 11:30-13:00 | B28: Kultura i technika studiowania, J. Kołota, s. 116/21 | D28: Elementy logiki i teorii mnogości, wykład, S. Turek, s. 202/21
A29: 13:15-14:45 | B29: Analiza matematyczna I, wykład, M. Grochowski, s. 116/21 | D29: Algebra liniowa, wykład, H. Grzebuła, s. 203/21
A30: 15:00-16:30 | B30: Analiza matematyczna I, wykład, M. Grochowski, s. 116/21 | D30: Algebra liniowa, ćw., H. Grzebuła, s. 203/21
A31: 16:45-18:15 | D31: Algebra liniowa, ćw., H. Grzebuła, s. 203/22
A32: 18:30 -20.00
A33: ZJAZD 4
B34: sobota, 7.11.2026 | D34: niedziela, 8.11.2026
A36: 08:00-09:30 | B36: Analiza matematyczna I, ćw., B. Tkacz, s. 203/21 | D36: Elem. log. i teorii mnog., ćw., A. Łukasik, s. 308/21
A37: 09:45-11:15 | B37: Analiza matematyczna I, ćw., B. Tkacz, s. 203/21 | D37: Elem. log. i teorii mnog., ćw., A. Łukasik, s. 308/22
A38: 11:30-13:00 | B38: Analiza matematyczna I, ćw., B. Tkacz, s. 203/21 | D38: Analiza matematyczna I, wykład, M. Grochowski, s. 203/21
A39: 13:15-14:45 | B39: Elem. log. i teorii mnog., ćw., A. Łukasik, s. 203/21 | D39: Analiza matematyczna I, wykład, M. Grochowski, s. 203/21
A40: 15:00-16:30 | B40: Elem. log. i teorii mnog., ćw., A. Łukasik, s. 203/21
A41: 16:45-18:15
A42: 18:30 -20.00
A43: ZJAZD 5
B44: sobota, 14.11.2026 | D44: niedziela, 15.11.2026
D45: ZDALNIE
A46: 08:00-09:30 | B46: Analiza matematyczna I, ćw., B. Tkacz, s. 203/21 | D46: Analiza matematyczna I, wykład, M. Grochowski, od 8:45, online
A47: 09:45-11:15 | B47: Analiza matematyczna I, ćw., B. Tkacz, s. 203/21 | D47: Analiza matematyczna I, wykład, M. Grochowski, online
A48: 11:30-13:00 | B48: Algebra liniowa, wykład, H. Grzebuła, s. 116/21 | D48: Analiza matematyczna I, wykład, M. Grochowski, do 12:15, online
A49: 13:15-14:45 | B49: Algebra liniowa, ćw., H. Grzebuła, s. 203/21 | D49: Wybrane zagadnienia prawa prywatnego. Studium przypadku (Zajęcia z bloku H), B. Kałdon do 17:15, online
A50: 15:00-16:30 | B50: Algebra liniowa, ćw., H. Grzebuła, s. 203/22
A51: 16:45-18:15
A52: 18:30 -20.00
A53: ZJAZD 6
B54: sobota, 21.11.2026 | D54: niedziela, 22.11.2026
A56: 08:00-09:30 | B56: Analiza matematyczna I, ćw., B. Tkacz, s. 203/21 | D56: Elementy logiki i teorii mnogości, wykład, S. Turek, s. 202/21
A57: 09:45-11:15 | B57: Analiza matematyczna I, ćw., B. Tkacz, s. 203/21 | D57: Elementy logiki i teorii mnogości, wykład, S. Turek, s. 202/21
A58: 11:30-13:00 | B58: Algebra liniowa, wykład, H. Grzebuła, s. 116/21 | D58: Algebra liniowa, wykład, H. Grzebuła, s. 203/21
A59: 13:15-14:45 | B59: Algebra liniowa, ćw., H. Grzebuła, s. 203/21 | D59: Algebra liniowa, ćw., H. Grzebuła, s. 203/21
A60: 15:00-16:30 | B60: Algebra liniowa, ćw., H. Grzebuła, s. 203/22 | D60: Algebra liniowa, ćw., H. Grzebuła, s. 203/22
A61: 16:45-18:15
A62: 18:30 -20.00
A63: ZJAZD 7
B64: sobota, 5.12.2026 | D64: niedziela, 6.12.2026
A66: 08:00-09:30 | B66: Analiza matematyczna I, ćw., B. Tkacz, od 8:45, s. 203/21 | D66: Elem. log. i teorii mnog., ćw., A. Łukasik, s. 308/21
A67: 09:45-11:15 | B67: Analiza matematyczna I, ćw., B. Tkacz, s. 203/21 | D67: Elem. log. i teorii mnog., ćw., A. Łukasik, s. 308/22
A68: 11:30-13:00 | B68: Analiza matematyczna I, ćw., B. Tkacz, s. 203/21 | D68: Algebra liniowa, wykład, H. Grzebuła, s. 203/21
A69: 13:15-14:45 | B69: Analiza matematyczna I, wykład, M. Grochowski, s. 116/21 | D69: Algebra liniowa, ćw., H. Grzebuła, s. 203/21
A70: 15:00-16:30 | B70: Analiza matematyczna I, wykład, M. Grochowski, s. 116/21 | D70: Algebra liniowa, ćw., H. Grzebuła, s. 203/22
A71: 16:45-18:15
A72: 18:30 -20.00
A73: ZJAZD 8
B74: sobota, 12.12.2026 | D74: niedziela, 13.12.2026
D75: ZDALNIE
A76: 08:00-09:30 | B76: Analiza matematyczna I, ćw., B. Tkacz, s. 203/21 | D76: Wybrane zagadnienia prawa prywatnego. Studium przypadku (Zajęcia z bloku H), B. Kałdon do 12:15, online
A77: 09:45-11:15 | B77: Analiza matematyczna I, ćw., B. Tkacz, s. 203/21
A78: 11:30-13:00 | B78: Analiza matematyczna I, ćw., B. Tkacz, s. 203/21
A79: 13:15-14:45 | B79: Elementy logiki i teorii mnogości, wykład, S. Turek, s. 116/21 | D79: Wprowadzenie do filozofii (Zajęcia z bloku H ), J. Filcek, do 17:15, online
A80: 15:00-16:30 | B80: Elementy logiki i teorii mnogości, wykład, S. Turek, s. 116/21
A81: 16:45-18:15
A82: 18:30 -20.00
A83: ZJAZD 9 - ZDALNIE
B84: sobota, 19.12.2026 | D84: niedziela, 20.12.2026
B85: ZDALNIE | D85: ZDALNIE
A86: 08:00-09:30 | B86: Analiza matematyczna I, ćw., B. Tkacz, online | D86: Analiza matematyczna I, wykład, M. Grochowski, od 8:45, online
A87: 09:45-11:15 | B87: Analiza matematyczna I, ćw., B. Tkacz, online | D87: Analiza matematyczna I, wykład, M. Grochowski, online
A88: 11:30-13:00 | B88: Algebra liniowa, wykład, H. Grzebuła, online | D88: Analiza matematyczna I, wykład, M. Grochowski, do 12:15, online
A89: 13:15-14:45 | B89: Algebra liniowa, ćw., H. Grzebuła, online | D89: Wprowadzenie do filozofii (Zajęcia z bloku H), J. Filcek, do 17:15, online
A90: 15:00-16:30 | B90: Algebra liniowa, ćw., H. Grzebuła, online
A91: 16:45-18:15
A92: 18:30 -20.00
A93: ZJAZD 10
B94: sobota, 9.01.2027 | D94: niedziela, 10.01.2027
A96: 08:00-09:30 | B96: Analiza matematyczna I, ćw., B. Tkacz, s. 203/21 | D96: Elem. log. i teorii mnog., ćw., A. Łukasik, s. 308/21
A97: 09:45-11:15 | B97: Analiza matematyczna I, ćw., B. Tkacz, s. 203/21 | D97: Elem. log. i teorii mnog., ćw., A. Łukasik, s. 308/22
A98: 11:30-13:00 | B98: Elementy logiki i teorii mnogości, wykład, S. Turek, s. 116/21 | D98: Algebra liniowa, wykład, H. Grzebuła, s. 203/21
A99: 13:15-14:45 | B99: Algebra liniowa, wykład, H. Grzebuła, s. 116/21 | D99: Algebra liniowa, ćw., H. Grzebuła, s. 203/21
A100: 15:00-16:30 | B100: Algebra liniowa, ćw., H. Grzebuła, s. 203/21 | D100: Algebra liniowa, ćw., H. Grzebuła, s. 203/22
A101: 16:45-18:15 | B101: Algebra liniowa, ćw., H. Grzebuła, s. 203/22
A102: 18:30 -20.00
A103: ZJAZD 11
B104: sobota, 23.01.2027 | D104: niedziela, 24.01.2027
A106: 08:00-09:30 | B106: Analiza matematyczna I, ćw., B. Tkacz, s. 203/21 | D106: Elem. log. i teorii mnog., ćw., A. Łukasik, s. 308/21
...

Sheet II rok MAT
B1: II rok MATEMATYKA
B2: ='I rok MAT'!B2 -> semestr zimowy 2026/2027
A3: ='I rok MAT'!A3 -> ZJAZD 1
B4: ='I rok MAT'!B4 -> sobota, 3.10.2026 | D4: ='I rok MAT'!D4 -> niedziela, 4.10.2026
A6: 08:00-09:30
A7: 09:45-11:15 | B7: Ochrona własności intelektualnej* | D7: Rachunek prawdopodobieństwa I, wykład, T. Kulpa, s. 116/21
A8: 11:30-13:00 | B8: Algebra, wykład, T. Weiss, s. 116/21 | D8: Rachunek prawdopodobieństwa I, wykład, T. Kulpa, s. 116/21
A9: 13:15-14:45 | B9: Algebra, wykład, T. Weiss, s. 116/21 | D9: Rachunek prawdopodobieństwa I, ćw., T. Kulpa, s. 116/21
A10: 15:00-16:30 | B10: Algebra, ćw., T. Weiss, s. 116/21 | D10: Rachunek prawdopodobieństwa I, ćw., T. Kulpa, s. 116/21
A11: 16:45-18:15 | B11: Algebra, ćw., T. Weiss, s. 116/21
A12: 18:30 -20.00
A13: ='I rok MAT'!A13 -> ZJAZD 2 - ZDALNIE
B14: ='I rok MAT'!B14 -> sobota, 10.10.2026 | D14: ='I rok MAT'!D14 -> niedziela, 11.10.2026
B15: ZDALNIE | D15: ZDALNIE
A16: 08:00-09:30 | B16: Analiza matematyczna III, wykład, L. Sidz, online
A17: 09:45-11:15 | B17: Analiza matematyczna III, wykład, L. Sidz, online | D17: Rachunek prawdopodobieństwa I, wykład, T. Kulpa, online
A18: 11:30-13:00 | B18: Analiza matematyczna III, ćw., M. Suwińska, online | D18: Rachunek prawdopodobieństwa I, wykład, T. Kulpa, online
A19: 13:15-14:45 | B19: Analiza matematyczna III, ćw., M. Suwińska, online | D19: Rachunek prawdopodobieństwa I, ćw., T. Kulpa, online
A20: 15:00-16:30 | B20: Wprowadzenie do topologii i jej zastosowań, wykład, S. Turek, online | D20: Rachunek prawdopodobieństwa I, ćw., T. Kulpa, online
A21: 16:45-18:15 | B21: Przygotowanie do praktyk studenckich, kon., M. Suwińska, online
A22: 18:30 -20.00
A23: ='I rok MAT'!A23 -> ZJAZD 3
B24: ='I rok MAT'!B24 -> sobota, 17.10.2026 | D24: ='I rok MAT'!D24 -> niedziela, 18.10.2026
A26: 08:00-09:30 | B26: Analiza matematyczna III, ćw., M. Suwińska, od 8:45, s. 202/21 | D26: Wprowadzenie do topologii i jej zastosowań, wykład, S. Turek, s. 202/21
A27: 09:45-11:15 | B27: Analiza matematyczna III, ćw., M. Suwińska, s. 202/21 | D27: Analiza matematyczna III, wykład, L. Sidz, s. 116/21
A28: 11:30-13:00 | B28: Analiza matematyczna III, ćw., M. Suwińska, s. 202/21 | D28: Analiza matematyczna III, wykład, L. Sidz, s. 116/21
A29: 13:15-14:45 | B29: Wprowadzenie do topologii i jej zastosowań, wykład, S. Turek, s. 202/21 | D29: Laboratorium Mathematica, lab., F. Rupniewski, s. 119/21
A30: 15:00-16:30 | B30: Wprowadzenie do topologii i jej zastosowań, ćw., S. Turek, s. 202/21 | D30: Laboratorium Mathematica, lab., F. Rupniewski, s. 119/21
A31: 16:45-18:15 | B31: Wprowadzenie do topologii i jej zastosowań, ćw., S. Turek, s. 202/21
A32: 18:30 -20.00
A33: ='I rok MAT'!A33 -> ZJAZD 4
B34: ='I rok MAT'!B34 -> sobota, 7.11.2026 | D34: ='I rok MAT'!D34 -> niedziela, 8.11.2026
A36: 08:00-09:30 | B36: Analiza matematyczna III, ćw., M. Suwińska, s. 202/21
A37: 09:45-11:15 | B37: Analiza matematyczna III, ćw., M. Suwińska, s. 202/21
A38: 11:30-13:00 | B38: Analiza matematyczna III, wykład, L. Sidz, s. 202/21 | D38: Algebra, wykład, T. Weiss, s. 116/21
A39: 13:15-14:45 | B39: Analiza matematyczna III, wykład, L. Sidz, s. 202/21 | D39: Algebra, wykład, T. Weiss, s. 116/21
A40: 15:00-16:30 | B40: Analiza matematyczna III, wykład, L. Sidz, do 15:45, s. 202/21 | D40: Algebra, ćw., T. Weiss, s. 116/21
A41: 16:45-18:15 | D41: Algebra, ćw., T. Weiss, s. 116/21
A42: 18:30 -20.00
A43: ='I rok MAT'!A43 -> ZJAZD 5
B44: ='I rok MAT'!B44 -> sobota, 14.11.2026 | D44: ='I rok MAT'!D44 -> niedziela, 15.11.2026
A46: 08:00-09:30 | B46: Analiza matematyczna III, ćw., M. Suwińska, s. 202/21 | D46: Analiza matematyczna III, wykład, L. Sidz, s. 116/21
A47: 09:45-11:15 | B47: Analiza matematyczna III, ćw., M. Suwińska, s. 202/21 | D47: Analiza matematyczna III, wykład, L. Sidz, s. 116/21
A48: 11:30-13:00 | B48: Wprowadzenie do topologii i jej zastosowań, wykład, S. Turek, s. 202/21 | D48: Analiza matematyczna III, wykład, L. Sidz, do 12:15, s. 116/21
A49: 13:15-14:45 | B49: Wprowadzenie do topologii i jej zastosowań, wykład, S. Turek, s. 202/21 | D49: Analiza matematyczna III, ćw., M. Suwińska, s. 116/21
A50: 15:00-16:30 | B50: Wprowadzenie do topologii i jej zastosowań, ćw., S. Turek, s. 202/21 | D50: Analiza matematyczna III, ćw., M. Suwińska, s. 116/21
A51: 16:45-18:15
A52: 18:30 -20.00
A53: ='I rok MAT'!A53 -> ZJAZD 6
B54: ='I rok MAT'!B54 -> sobota, 21.11.2026 | D54: ='I rok MAT'!D54 -> niedziela, 22.11.2026
A56: 08:00-09:30 | B56: Analiza matematyczna III, ćw., M. Suwińska, s. 202/21 | D56: Analiza matematyczna III, wykład, L. Sidz, s. 116/21
A57: 09:45-11:15 | B57: Analiza matematyczna III, ćw., M. Suwińska, s. 202/21 | D57: Analiza matematyczna III, wykład, L. Sidz, s. 116/21
A58: 11:30-13:00 | B58: Wprowadzenie do topologii i jej zastosowań, wykład, S. Turek, s. 202/21 | D58: Analiza matematyczna III, ćw., M. Suwińska, s. 116/21
A59: 13:15-14:45 | B59: Wprowadzenie do topologii i jej zastosowań, ćw., S. Turek, s. 202/21 | D59: Analiza matematyczna III, ćw., M. Suwińska, s. 116/21
A60: 15:00-16:30 | B60: Wprowadzenie do topologii i jej zastosowań, ćw., S. Turek, s. 202/21
A61: 16:45-18:15
A62: 18:30 -20.00
A63: ='I rok MAT'!A63 -> ZJAZD 7
B64: ='I rok MAT'!B64 -> sobota, 5.12.2026 | D64: ='I rok MAT'!D64 -> niedziela, 6.12.2026
A66: 08:00-09:30 | B66: Analiza matematyczna III, ćw., M. Suwińska, s. 202/21 | D66: Rachunek prawdopodobieństwa I, wykład, T. Kulpa, s. 116/21
A67: 09:45-11:15 | B67: Analiza matematyczna III, ćw., M. Suwińska, s. 202/21 | D67: Rachunek prawdopodobieństwa I, wykład, T. Kulpa, s. 116/21
A68: 11:30-13:00 | B68: Wprowadzenie do topologii i jej zastosowań, wykład, S. Turek, s. 202/21 | D68: Algebra, wykład, T. Weiss, s. 116/21
A69: 13:15-14:45 | B69: Wprowadzenie do topologii i jej zastosowań, wykład, S. Turek, s. 202/21 | D69: Algebra, wykład, T. Weiss, s. 116/21
A70: 15:00-16:30 | B70: Wprowadzenie do topologii i jej zastosowań, ćw., S. Turek, s. 202/21 | D70: Algebra, ćw., T. Weiss, s. 116/21
A71: 16:45-18:15 | D71: Algebra, ćw., T. Weiss, s. 116/21
A72: 18:30 -20.00
A73: ='I rok MAT'!A73 -> ZJAZD 8
B74: ='I rok MAT'!B74 -> sobota, 12.12.2026 | D74: ='I rok MAT'!D74 -> niedziela, 13.12.2026
A76: 08:00-09:30 | D76: Analiza matematyczna III, wykład, L. Sidz, s. 116/21
A77: 09:45-11:15 | B77: Wprowadzenie do topologii i jej zastosowań, wykład, S. Turek, s. 202/21 | D77: Analiza matematyczna III, wykład, L. Sidz, s. 116/21
A78: 11:30-13:00 | B78: Wprowadzenie do topologii i jej zastosowań, ćw., S. Turek, s. 202/21 | D78: Analiza matematyczna III, ćw., M. Suwińska, s. 116/21
A79: 13:15-14:45 | B79: Laboratorium Mathematica, lab., F. Rupniewski, s. 033/21 | D79: Analiza matematyczna III, ćw., M. Suwińska, s. 116/21
A80: 15:00-16:30 | B80: Laboratorium Mathematica, lab., F. Rupniewski, s. 033/21
A81: 16:45-18:15
A82: 18:30 -20.00
A83: ='I rok MAT'!A83 -> ZJAZD 9 - ZDALNIE
B84: ='I rok MAT'!B84 -> sobota, 19.12.2026 | D84: ='I rok MAT'!D84 -> niedziela, 20.12.2026
B85: ZDALNIE | D85: ZDALNIE
A86: 08:00-09:30 | B86: Analiza matematyczna III, wykład, L. Sidz, online
A87: 09:45-11:15 | B87: Analiza matematyczna III, wykład, L. Sidz, online | D87: Rachunek prawdopodobieństwa I, wykład, T. Kulpa, online
A88: 11:30-13:00 | B88: Analiza matematyczna III, ćw., M. Suwińska, online | D88: Rachunek prawdopodobieństwa I, wykład, T. Kulpa, online
A89: 13:15-14:45 | B89: Analiza matematyczna III, ćw., M. Suwińska, online | D89: Rachunek prawdopodobieństwa I, ćw., T. Kulpa, online
A90: 15:00-16:30 | B90: Algebra, wykład, T. Weiss, online | D90: Rachunek prawdopodobieństwa I, ćw., T. Kulpa, online
A91: 16:45-18:15 | B91: Algebra, wykład, T. Weiss, online
A92: 18:30 -20.00
A93: ='I rok MAT'!A93 -> ZJAZD 10
B94: ='I rok MAT'!B94 -> sobota, 9.01.2027 | D94: ='I rok MAT'!D94 -> niedziela, 10.01.2027
A96: 08:00-09:30 | B96: Wprowadzenie do topologii i jej zastosowań, wykład, S. Turek, s. 202/21
A97: 09:45-11:15 | B97: Wprowadzenie do topologii i jej zastosowań, ćw., S. Turek, s. 202/21 | D97: Laboratorium Mathematica, lab., F. Rupniewski, s. 119/21
A98: 11:30-13:00 | B98: Rachunek prawdopodobieństwa I, wykład, T. Kulpa, s. 202/21 | D98: Algebra, wykład, T. Weiss, s. 116/21
A99: 13:15-14:45 | B99: Rachunek prawdopodobieństwa I, wykład, T. Kulpa, s. 202/21 | D99: Algebra, wykład, T. Weiss, s. 116/21
A100: 15:00-16:30 | B100: Rachunek prawdopodobieństwa I, ćw., T. Kulpa, s. 202/21 | D100: Algebra, ćw., T. Weiss, s. 116/21
A101: 16:45-18:15 | B101: Rachunek prawdopodobieństwa I, ćw., T. Kulpa, s. 202/21 | D101: Algebra, ćw., T. Weiss, s. 116/21
A102: 18:30 -20.00
A103: ='I rok MAT'!A103 -> ZJAZD 11
B104: ='I rok MAT'!B104 -> sobota, 23.01.2027 | D104: ='I rok MAT'!D104 -> niedziela, 24.01.2027
A106: 08:00-09:30 | B106: Analiza matematyczna III, ćw., M. Suwińska, s. 202/21
A107: 09:45-11:15 | B107: Analiza matematyczna III, ćw., M. Suwińska, s. 202/21 | D107: Rachunek prawdopodobieństwa I, wykład, T. Kulpa, s. 116/21
A108: 11:30-13:00 | B108: Wprowadzenie do topologii i jej zastosowań, ćw., S. Turek, s. 202/21 | D108: Rachunek prawdopodobieństwa I, wykład, T. Kulpa, s. 116/21
A109: 13:15-14:45 | B109: Wprowadzenie do topologii i jej zastosowań, ćw., S. Turek, s. 202/21 | D109: Algebra, ćw., T. Weiss, s. 116/21
...

Sheet III rok MAT
B1: III rok MATEMATYKA
B2: ='I rok MAT'!B2 -> semestr zimowy 2026/2027
A3: ='I rok MAT'!A3 -> ZJAZD 1
B4: ='I rok MAT'!B4 -> sobota, 3.10.2026 | E4: ='I rok MAT'!D4 -> niedziela, 4.10.2026
A6: 08:00-09:30 | B6: Analiza zespolona, wykład, A. Panasyuk, s. 308A/21 | E6: Podstawy aksjomatycznej teorii mnogości - zaj. fakult., wykład, S. Turek, s. 202/21
A7: 09:45-11:15 | B7: Analiza zespolona, wykład, A. Panasyuk, s. 308A/21 | E7: Podstawy aksjomatycznej teorii mnogości - zaj. fakult., wykład, S. Turek, s. 202/21
A8: 11:30-13:00 | B8: Analiza zespolona, ćw., A. Panasyuk, s. 308A/21 | E8: Podstawy aksjomatycznej teorii mnogości - zaj. fakult., ćw., S.Turek, s. 202/21
A9: 13:15-14:45 | B9: Modelowanie matematyczne w biologii i medycynie, wykład, Ł. Mioduszewski, s. 308A/21 | E9: Podstawy aksjomatycznej teorii mnogości - zaj. fakult., ćw., S.Turek, s. 202/21
A10: 15:00-16:30 | B10: Modelowanie matematyczne w biologii i medycynie, wykład, Ł. Mioduszewski, s. 308A/21
A11: 16:45-18:15 | B11: Modelowanie mat. w biologii i medycynie, ćw. , Ł. Mioduszewski, s. 308A/21
A12: 18:30 -20.00
A13: ='I rok MAT'!A13 -> ZJAZD 2 - ZDALNIE
B14: ='I rok MAT'!B14 -> sobota, 10.10.2026 | E14: ='I rok MAT'!D14 -> niedziela, 11.10.2026
B15: ZDALNIE | E15: ZDALNIE
A16: 08:00-09:30 | B16: Podstawy aksjomatycznej teorii mnogości - zaj. fakult., wykład, S.Turek, online | E16: Struktury generyczne, wykład, W. Kubiś, online
A17: 09:45-11:15 | B17: Sem. lic., M. Suwińska, online | C17: Sem. lic., S. Turek, online | D17: Sem. lic., K. Rutkowski, online | E17: Struktury generyczne, wykład, W. Kubiś, online
A18: 11:30-13:00 | B18: Podstawy aksjomatycznej teorii mnogości - zaj. fakult., ćw., S.Turek, online | E18: Struktury generyczne, ćw., W. Kubiś, online
A19: 13:15-14:45 | B19: Bazy danych, wykład, T. Eisenbardt, online | E19: Bazy danych, wykład, T. Eisenbardt, online
A20: 15:00-16:30 | B20: Bazy danych, wykład, T. Eisenbardt, online | E20: Bazy danych, lab., T. Eisenbardt, online
A21: 16:45-18:15 | B21: Bazy danych, lab., T. Eisenbardt, online | E21: Bazy danych, lab., T. Eisenbardt, online
A22: 18:30 -20.00
A23: ='I rok MAT'!A23 -> ZJAZD 3
B24: ='I rok MAT'!B24 -> sobota, 17.10.2026 | E24: ='I rok MAT'!D24 -> niedziela, 18.10.2026
E25: ZDALNIE
A26: 08:00-09:30 | B26: Analiza zespolona, wykład, A. Panasyuk, online | E26: Bazy danych, wykład, T. Eisenbardt, online
A27: 09:45-11:15 | B27: Analiza zespolona, wykład, A. Panasyuk, online | E27: Bazy danych, wykład, T. Eisenbardt, online
A28: 11:30-13:00 | B28: Analiza zespolona, ćw., A. Panasyuk, od 12:15, online | E28: Bazy danych, lab., T. Eisenbardt, online
A29: 13:15-14:45 | B29: Analiza zespolona, ćw., A. Panasyuk, online | E29: Struktury generyczne, wykład, W. Kubiś, online
A30: 15:00-16:30 | B30: Analiza zespolona, ćw., A. Panasyuk, do 15:45, online | E30: Struktury generyczne, ćw., W. Kubiś, online
A31: 16:45-18:15 | E31: Struktury generyczne, ćw., W. Kubiś, online
A32: 18:30 -20.00
A33: ='I rok MAT'!A33 -> ZJAZD 4
B34: ='I rok MAT'!B34 -> sobota, 7.11.2026 | E34: ='I rok MAT'!D34 -> niedziela, 8.11.2026
A36: 08:00-09:30 | B36: Analiza zespolona, wykład, A. Panasyuk, s. 308A/21 | E36: Podstawy aksjomatycznej teorii mnogości - zaj. fakult., wykład, S. Turek, s. 202/21
A37: 09:45-11:15 | B37: Analiza zespolona, ćw., A. Panasyuk, s. 308A/21 | E37: Podstawy aksjomatycznej teorii mnogości - zaj. fakult., wykład, S. Turek, s. 202/21
A38: 11:30-13:00 | B38: Sem. lic., M. Suwińska, s.225/21 | C38: Sem. lic., S. Turek, s.308A/21 | D38: Sem. lic., K. Rutkowski, s.308/21 | E38: Podstawy aksjomatycznej teorii mnogości - zaj. fakult., ćw., S.Turek, s. 202/21
A39: 13:15-14:45 | B39: Sem. lic., M. Suwińska, s.225/21 | C39: Sem. lic., S. Turek, s.308A/21 | D39: Sem. lic., K. Rutkowski, s.308/21 | E39: Podstawy aksjomatycznej teorii mnogości - zaj. fakult., ćw., S.Turek, s. 202/21
A40: 15:00-16:30 | B40: Podstawy aksjomatycznej teorii mnogości - zaj. fakult., wykład, S.Turek, s. 308A/21
A41: 16:45-18:15 | B41: Podstawy aksjomatycznej teorii mnogości - zaj. fakult., ćw., S.Turek, s. 308A/21
A42: 18:30 -20.00
A43: ='I rok MAT'!A43 -> ZJAZD 5
B44: ='I rok MAT'!B44 -> sobota, 14.11.2026 | E44: ='I rok MAT'!D44 -> niedziela, 15.11.2026
B45: ZDALNIE
A46: 08:00-09:30 | B46: Bazy danych, lab., T. Eisenbardt, online | E46: Sem. lic., M. Suwińska, s.308/21
A47: 09:45-11:15 | B47: Bazy danych, lab., T. Eisenbardt, online | E47: Sem. lic., M. Suwińska, s.308/21
A48: 11:30-13:00 | B48: Bazy danych, wykład, T. Eisenbardt, online | E48: Modelowanie matematyczne w biologii i medycynie, wykład, Ł. Mioduszewski, s. 203/21
A49: 13:15-14:45 | B49: Struktury generyczne, wykład, W. Kubiś, online | E49: Modelowanie matematyczne w biologii i medycynie, wykład, Ł. Mioduszewski, s. 203/21
A50: 15:00-16:30 | B50: Struktury generyczne, wykład, W. Kubiś, online | E50: Modelowanie mat. w biologii i medycynie, ćw. , Ł. Mioduszewski, s. 119/21
A51: 16:45-18:15 | B51: Struktury generyczne, ćw., W. Kubiś, online | E51: Modelowanie mat. w biologii i medycynie, ćw. , Ł. Mioduszewski, s. 119/21
A52: 18:30 -20.00
A53: ='I rok MAT'!A53 -> ZJAZD 6
B54: ='I rok MAT'!B54 -> sobota, 21.11.2026 | E54: ='I rok MAT'!D54 -> niedziela, 22.11.2026
A56: 08:00-09:30 | B56: Analiza zespolona, wykład, A.Panasyuk, od 8:45, s. 308A/21 | E56: Modelowanie matematyczne w biologii i medycynie, wykład, Ł. Mioduszewski, s. 203/21
A57: 09:45-11:15 | B57: Analiza zespolona, wykład, A.Panasyuk, s. 308A/21 | E57: Modelowanie mat. w biologii i medycynie, ćw. , Ł. Mioduszewski, s. 119/21
A58: 11:30-13:00 | B58: Analiza zespolona, wykład, A.Panasyuk, do 12:15, s. 308A/21 | E58: Podstawy aksjomatycznej teorii mnogości - zaj. fakult., wykład, S. Turek, s. 202/21
A59: 13:15-14:45 | B59: Analiza zespolona, ćw., A.Panasyuk, s. 308A/21 | E59: Podstawy aksjomatycznej teorii mnogości - zaj. fakult., ćw., S.Turek, s. 202/21
A60: 15:00-16:30 | B60: Analiza zespolona, ćw., A.Panasyuk, s. 308A/21 | E60: Sem. lic., M. Suwińska, s.308/21
A61: 16:45-18:15 | C61: Sem. lic., S. Turek, s. 308A/21 | D61: Sem. lic., K. Rutkowski, s. 308/21
A62: 18:30 -20.00
A63: ='I rok MAT'!A63 -> ZJAZD 7
B64: ='I rok MAT'!B64 -> sobota, 5.12.2026 | E64: ='I rok MAT'!D64 -> niedziela, 6.12.2026
B65: ZDALNIE | E65: ZDALNIE
A66: 08:00-09:30 | B66: Modelowanie matematyczne w biologii i medycynie, wykład, Ł. Mioduszewski, online | E66: Struktury generyczne, wykład, W. Kubiś, online
A67: 09:45-11:15 | B67: Modelowanie matematyczne w biologii i medycynie, wykład, Ł. Mioduszewski, online | E67: Struktury generyczne, ćw., W. Kubiś, online
A68: 11:30-13:00 | B68: Modelowanie mat. w biologii i medycynie, ćw. , Ł. Mioduszewski, online | E68: Struktury generyczne, ćw., W. Kubiś, online
A69: 13:15-14:45 | B69: Modelowanie mat. w biologii i medycynie, ćw. , Ł. Mioduszewski, online | E69: Bazy danych, wykład, T. Eisenbardt, online
A70: 15:00-16:30 | E70: Bazy danych, wykład, T. Eisenbardt, online
A71: 16:45-18:15 | E71: Bazy danych, lab., T. Eisenbardt, online
A72: 18:30 -20.00
A73: ='I rok MAT'!A73 -> ZJAZD 8
B74: ='I rok MAT'!B74 -> sobota, 12.12.2026 | E74: ='I rok MAT'!D74 -> niedziela, 13.12.2026
A76: 08:00-09:30 | B76: Analiza zespolona, wykład, A.Panasyuk, s. 308A/21 | E76: Sem. lic., M. Suwińska, s.308/21 | F76: Sem. lic., S. Turek, s. 202/21 | G76: Sem. lic., K. Rutkowski, s. 203/21
A77: 09:45-11:15 | B77: Analiza zespolona, wykład, A.Panasyuk, s. 308A/21 | E77: Sem. lic., M. Suwińska, s.308/21 | F77: Sem. lic., S. Turek, s. 202/21 | G77: Sem. lic., K. Rutkowski, s. 203/21
A78: 11:30-13:00 | B78: Analiza zespolona, ćw., A.Panasyuk, s. 308A/21 | E78: Podstawy aksjomatycznej teorii mnogości - zaj. fakult., wykład, S. Turek, s. 202/21
A79: 13:15-14:45 | B79: Modelowanie matematyczne w biologii i medycynie, wykład, Ł. Mioduszewski, s. 308A/21 | E79: Podstawy aksjomatycznej teorii mnogości - zaj. fakult., ćw., S.Turek, s. 202/21
A80: 15:00-16:30 | B80: Modelowanie matematyczne w biologii i medycynie, wykład, Ł. Mioduszewski, s. 308A/21
A81: 16:45-18:15 | B81: Modelowanie mat. w biologii i medycynie, ćw. , Ł. Mioduszewski, s. 119/21
A82: 18:30 -20.00
A83: ='I rok MAT'!A83 -> ZJAZD 9 - ZDALNIE
B84: ='I rok MAT'!B84 -> sobota, 19.12.2026 | E84: ='I rok MAT'!D84 -> niedziela, 20.12.2026
B85: ZDALNIE | E85: ZDALNIE
A86: 08:00-09:30 | B86: Sem. lic., M. Suwińska, online | C86: Sem. lic., S. Turek, online | D86: Sem. lic., K. Rutkowski, online | E86: Bazy danych, wykład, T. Eisenbardt, online
A87: 09:45-11:15 | B87: Sem. lic., M. Suwińska, online | C87: Sem. lic., S. Turek, online | D87: Sem. lic., K. Rutkowski, online | E87: Bazy danych, wykład, T. Eisenbardt, online
A88: 11:30-13:00 | B88: Podstawy aksjomatycznej teorii mnogości - zaj. fakult., wykład, S.Turek, online | E88: Bazy danych, lab., T. Eisenbardt, online
A89: 13:15-14:45 | B89: Podstawy aksjomatycznej teorii mnogości - zaj. fakult.,ćw., S.Turek, online | E89: Struktury generyczne, wykład, W. Kubiś, online
A90: 15:00-16:30 | B90: Struktury generyczne, wykład, W. Kubiś, online | E90: Struktury generyczne, wykład, W. Kubiś, online
A91: 16:45-18:15 | B91: Struktury generyczne, ćw., W. Kubiś, online | E91: Struktury generyczne, ćw., W. Kubiś, online
A92: 18:30-20.00
A93: ='I rok MAT'!A93 -> ZJAZD 10
B94: ='I rok MAT'!B94 -> sobota, 9.01.2027 | E94: ='I rok MAT'!D94 -> niedziela, 10.01.2027
B95: ZDALNIE
A96: 08:00-09:30 | B96: Struktury generyczne, wykład, W. Kubiś, online | F96: Sem. lic., S. Turek, s. 202/21 | G96: Sem. lic., K. Rutkowski, s. 203/21
A97: 09:45-11:15 | B97: Struktury generyczne, ćw., W. Kubiś, online | F97: Sem. lic., S. Turek, s. 202/21 | G97: Sem. lic., K. Rutkowski, s. 203/21
A98: 11:30-13:00 | B98: Struktury generyczne, ćw., W. Kubiś, online | E98: Podstawy aksjomatycznej teorii mnogości - zaj. fakult., wykład, S. Turek, s. 202/21
A99: 13:15-14:45 | B99: Bazy danych, lab., T. Eisenbardt, online | E99: Podstawy aksjomatycznej teorii mnogości - zaj. fakult., ćw., S.Turek, s. 202/21
A100: 15:00-16:30 | B100: Bazy danych, lab., T. Eisenbardt, online
A101: 16:45-18:15
A102: 18:30-20.00
A103: ='I rok MAT'!A103 -> ZJAZD 11
B104: ='I rok MAT'!B104 -> sobota, 23.01.2027 | E104: ='I rok MAT'!D104 -> niedziela, 24.01.2027
...

Sheet II rok INF
B1: II rok INFORMATYKA
B2: ='I rok MAT'!B2 -> semestr zimowy 2026/2027
A3: ='I rok MAT'!A3 -> ZJAZD 1
B4: ='I rok MAT'!B4 -> sobota, 3.10.2026 | D4: ='I rok MAT'!D4 -> niedziela, 4.10.2026
A6: 08:00-09:30 | B6: Programowanie obiektowe, wykład, J. Gąsior, s. 308/21
A7: 09:45-11:15 | B7: Programowanie obiektowe, wykład, J. Gąsior, s. 308/21 | D7: Rachunek prawdopodobieństwa I, wykład, T. Kulpa, s. 116/21
A8: 11:30-13:00 | B8: Systemy operacyjne, wykład, A. Mikitiuk, s. 308/21 | D8: Rachunek prawdopodobieństwa I, wykład, T. Kulpa, s. 116/21
A9: 13:15-14:45 | B9: Systemy operacyjne, wykład, A. Mikitiuk, s. 308/21 | D9: Rachunek prawdopodobieństwa I, ćw., T. Kulpa, s. 116/21
A10: 15:00-16:30 | B10: Architektura systemów komputerowych, konw., P. Plebański, s. 033/21 | D10: Rachunek prawdopodobieństwa I, ćw., T. Kulpa, s.
A11: 16:45-18:15 | B11: Architektura systemów komputerowych, konw., P. Plebański, s. 033/21
A12: 18:30 -20.00
A13: ='I rok MAT'!A13 -> ZJAZD 2 - ZDALNIE
B14: ='I rok MAT'!B14 -> sobota, 10.10.2026 | D14: ='I rok MAT'!D14 -> niedziela, 11.10.2026
B15: ZDALNIE | D15: ZDALNIE
A16: 08:00-09:30 | B16: Programowanie obiektowe, wykład, J. Gąsior, online
A17: 09:45-11:15 | B17: Programowanie obiektowe, wykład, J. Gąsior, online | D17: Rachunek prawdopodobieństwa I, wykład, T. Kulpa, online
A18: 11:30-13:00 | B18: Programowanie obiektowe, lab., J. Kanturski, online | D18: Rachunek prawdopodobieństwa I, wykład, T. Kulpa, online
A19: 13:15-14:45 | B19: Programowanie obiektowe, lab., J. Kanturski, online | D19: Rachunek prawdopodobieństwa I, ćw., T. Kulpa, online
A20: 15:00-16:30 | D20: Rachunek prawdopodobieństwa I, ćw., T. Kulpa, online
A21: 16:45-18:15
A22: 18:30 -20.00
A23: ='I rok MAT'!A23 -> ZJAZD 3
B24: ='I rok MAT'!B24 -> sobota, 17.10.2026 | D24: ='I rok MAT'!D24 -> niedziela, 18.10.2026
A26: 08:00-09:30 | B26: Architektura systemów komputerowych, konw., P. Plebański, s. 033/21
A27: 09:45-11:15 | B27: Architektura systemów komputerowych, konw., P. Plebański, s. 033/21 | D27: Wprowadzenie do metod numerycznych, konw., F. Rupniewski, s. 308/21
A28: 11:30-13:00 | B28: Systemy operacyjne, wykład, A. Mikitiuk, s. 308/21 | D28: Wprowadzenie do metod numerycznych, konw., F. Rupniewski, s. 308/21
A29: 13:15-14:45 | B29: Systemy operacyjne, wykład, A. Mikitiuk, s. 308/21 | D29: Wprowadzenie do grafiki komputerowej, konw., J. Grzeszczak, s. 033/21
A30: 15:00-16:30 | B30: Systemy operacyjne, lab., M. Gwardys, s. 033/21 | D30: Wprowadzenie do grafiki komputerowej, konw., J. Grzeszczak, s. 033/21
A31: 16:45-18:15 | B31: Systemy operacyjne, lab., M. Gwardys, s. 033/21 | D31: Wprowadzenie do grafiki komputerowej, lab., J. Grzeszczak, s. 033/21
A32: 18:30 -20.00
A33: ='I rok MAT'!A33 -> ZJAZD 4
B34: ='I rok MAT'!B34 -> sobota, 7.11.2026 | D34: ='I rok MAT'!D34 -> niedziela, 8.11.2026
A36: 08:00-09:30 | B36: Architektura systemów komputerowych, konw., P. Plebański, s. 033/21 | D36: Systemy operacyjne, lab., M. Gwardys, s. 033/21
A37: 09:45-11:15 | B37: Architektura systemów komputerowych, konw., P. Plebański, s. 033/21 | D37: Systemy operacyjne, lab., M. Gwardys, s. 033/21
A38: 11:30-13:00 | B38: Architektura systemów komputerowych, lab., P. Plebański, s. 033/21 | D38: Systemy operacyjne, wykład, A. Mikitiuk, s. 308/21
A39: 13:15-14:45 | B39: Architektura systemów komputerowych, lab., P. Plebański, s. 033/21 | D39: Programowanie obiektowe, lab., J. Kanturski, s. 033/21
A40: 15:00-16:30 | D40: Systemy operacyjne, wykład, A. Mikitiuk, s. 308/21
A41: 16:45-18:15
A42: 18:30 -20.00
A43: ='I rok MAT'!A43 & " - ZDALNIE" -> ZJAZD 5 - ZDALNIE
B44: ='I rok MAT'!B44 -> sobota, 14.11.2026 | D44: ='I rok MAT'!D44 -> niedziela, 15.11.2026
B45: ZDALNIE | D45: ZDALNIE
A46: 08:00-09:30 | B46: Programowanie obiektowe, wykład, J. Gąsior, online | D46: Programowanie obiektowe, lab., J. Kanturski, online
A47: 09:45-11:15 | B47: Programowanie obiektowe, wykład, J. Gąsior, online | D47: Programowanie obiektowe, lab., J. Kanturski, online
A48: 11:30-13:00 | B48: Architektura systemów komputerowych, konw., P. Plebański, online | D48: Programowanie obiektowe, lab., J. Kanturski, online
A49: 13:15-14:45 | B49: Architektura systemów komputerowych, konw., P. Plebański, online | D49: Wprowadzenie do grafiki komputerowej, konw., J. Grzeszczak, online
A50: 15:00-16:30 | B50: Przygotowanie do praktyk studenckich, konw., D. Dąbrowska, online | D50: Wprowadzenie do grafiki komputerowej, lab., J. Grzeszczak, online
A51: 16:45-18:15
A52: 18:30 -20.00
A53: ='I rok MAT'!A53 -> ZJAZD 6
B54: ='I rok MAT'!B54 -> sobota, 21.11.2026 | D54: ='I rok MAT'!D54 -> niedziela, 22.11.2026
A56: 08:00-09:30 | B56: Programowanie obiektowe, wykład, J. Gąsior, s. 308/21 | D56: Wprowadzenie do metod numerycznych, konw., F. Rupniewski, s. 308/21
A57: 09:45-11:15 | B57: Programowanie obiektowe, wykład, J. Gąsior, s. 308/21 | D57: Wprowadzenie do metod numerycznych, konw., F. Rupniewski, s. 308/21
A58: 11:30-13:00 | B58: Systemy operacyjne, wykład, A. Mikitiuk, s. 308/21 | D58: Wprowadzenie do grafiki komputerowej, konw., J. Grzeszczak, s. 033/21
A59: 13:15-14:45 | B59: Systemy operacyjne, wykład, A. Mikitiuk, s. 308/21 | D59: Wprowadzenie do grafiki komputerowej, konw., J. Grzeszczak, s. 033/21
A60: 15:00-16:30 | D60: Wprowadzenie do grafiki komputerowej, lab., J. Grzeszczak, s. 033/21
A61: 16:45-18:15
A62: 18:30 -20.00
A63: ='I rok MAT'!A63 -> ZJAZD 7
B64: ='I rok MAT'!B64 -> sobota, 5.12.2026 | D64: ='I rok MAT'!D64 -> niedziela, 6.12.2026
A66: 08:00-09:30 | B66: Programowanie obiektowe, lab., J. Kanturski, s. 119/21 | D66: Rachunek prawdopodobieństwa I, wykład, T. Kulpa, s. 116/21
A67: 09:45-11:15 | B67: Programowanie obiektowe, lab., J. Kanturski, s. 119/21 | D67: Rachunek prawdopodobieństwa I, wykład, T. Kulpa, s. 116/21
A68: 11:30-13:00 | B68: Systemy operacyjne, wykład, A. Mikitiuk, s. 308/21 | D68: Systemy operacyjne, lab., M. Gwardys, s. 033/21
A69: 13:15-14:45 | B69: Systemy operacyjne, wykład, A. Mikitiuk, s. 308/21 | D69: Systemy operacyjne, lab., M. Gwardys, s. 033/21
A70: 15:00-16:30
A71: 16:45-18:15
A72: 18:30 -20.00
A73: ='I rok MAT'!A73 -> ZJAZD 8
B74: ='I rok MAT'!B74 -> sobota, 12.12.2026 | D74: ='I rok MAT'!D74 -> niedziela, 13.12.2026
A76: 08:00-09:30 | D76: Architektura systemów komputerowych, konw., P. Plebański, s. 033/21
A77: 09:45-11:15 | B77: Wprowadzenie do metod numerycznych, konw., F. Rupniewski, s. 308/21 | D77: Architektura systemów komputerowych, konw., P. Plebański, s. 033/21
A78: 11:30-13:00 | B78: Wprowadzenie do metod numerycznych, konw., F. Rupniewski, s. 308/21 | D78: Architektura systemów komputerowych, lab., P. Plebański, s. 033/21
A79: 13:15-14:45 | B79: Wprowadzenie do grafiki komputerowej, lab., J. Grzeszczak, s. 119/21 | D79: Architektura systemów komputerowych, lab., P. Plebański, do 14:00, s. 033/21
A80: 15:00-16:30 | B80: Wprowadzenie do grafiki komputerowej, lab., J. Grzeszczak, s. 119/21
A81: 16:45-18:15
A82: 18:30 -20.00
A83: ='I rok MAT'!A83 -> ZJAZD 9 - ZDALNIE
B84: ='I rok MAT'!B84 -> sobota, 19.12.2026 | D84: ='I rok MAT'!D84 -> niedziela, 20.12.2026
B85: ZDALNIE | D85: ZDALNIE
A86: 08:00-09:30 | B86: Programowanie obiektowe, wykład, J. Gąsior, online
A87: 09:45-11:15 | B87: Programowanie obiektowe, wykład, J. Gąsior, online | D87: Rachunek prawdopodobieństwa I, wykład, T. Kulpa, online
A88: 11:30-13:00 | B88: Systemy operacyjne, lab., M. Gwardys, online | D88: Rachunek prawdopodobieństwa I, wykład, T. Kulpa, online
A89: 13:15-14:45 | B89: Systemy operacyjne, lab., M. Gwardys, online | D89: Rachunek prawdopodobieństwa I, ćw., T. Kulpa, online
A90: 15:00-16:30 | D90: Rachunek prawdopodobieństwa I, ćw., T. Kulpa, online
A91: 16:45-18:15
A92: 18:30 -20.00
A93: ='I rok MAT'!A93 -> ZJAZD 10
B94: ='I rok MAT'!B94 -> sobota, 9.01.2027 | D94: ='I rok MAT'!D94 -> niedziela, 10.01.2027
A96: 08:00-09:30 | D96: Systemy operacyjne, lab., M. Gwardys, s. 033/21
A97: 09:45-11:15 | D97: Systemy operacyjne, lab., M. Gwardys, s. 033/21
A98: 11:30-13:00 | B98: Rachunek prawdopodobieństwa I, wykład, T. Kulpa, s. 116/21 | D98: Wprowadzenie do metod numerycznych, konw., F. Rupniewski, s. 308/21
A99: 13:15-14:45 | B99: Rachunek prawdopodobieństwa I, wykład, T. Kulpa, s. 116/21 | D99: Wprowadzenie do metod numerycznych, konw., F. Rupniewski, s. 308/21
A100: 15:00-16:30 | B100: Rachunek prawdopodobieństwa I, ćw., T. Kulpa, s. 116/21
A101: 16:45-18:15 | B101: Rachunek prawdopodobieństwa I, ćw., T. Kulpa, s. 116/21
A102: 18:30 -20.00
A103: ='I rok MAT'!A103 -> ZJAZD 11
B104: ='I rok MAT'!B104 -> sobota, 23.01.2027 | D104: ='I rok MAT'!D104 -> niedziela, 24.01.2027
A106: 08:00-09:30
A107: 09:45-11:15 | B107: Programowanie obiektowe, lab., J. Kanturski, s. 119/21 | D107: Rachunek prawdopodobieństwa I, ćw., T. Kulpa, s. 116/21
A108: 11:30-13:00 | B108: Programowanie obiektowe, lab., J. Kanturski, s. 119/21 | D108: Rachunek prawdopodobieństwa I, ćw., T. Kulpa, s. 116/21
...

Sheet III rok INF
B1: III rok INFORMATYKA
B2: ='I rok MAT'!B2 -> semestr zimowy 2026/2027
A3: ='I rok MAT'!A3 -> ZJAZD 1
B4: ='I rok MAT'!B4 -> sobota, 3.10.2026 | D4: ='I rok MAT'!D4 -> niedziela, 4.10.2026
D5: ZDALNIE
A6: 08:00-09:30 | B6: Zaawansowane programowanie w języku Python, konw., J. Kanturski, s. 119/21 | D6: Biznesowe zastosowania informatyki, wykład, T. Eisenbardt, online
A7: 09:45-11:15 | B7: Zaawansowane programowanie w języku Python, konw., J. Kanturski, s. 119/21 | D7: Biznesowe zastosowania informatyki, wykład, T. Eisenbardt, online
A8: 11:30-13:00 | B8: Zaawansowane programowanie w języku Python, lab., J. Kanturski, s. 119/21 | D8: Biznesowe zastosowania informatyki, lab., T. Eisenbardt, online
A9: 13:15-14:45 | B9: Projekt zespołowy, konw., J. Kanturski, s. 119/21 | D9: Biznesowe zastosowania informatyki, lab., T. Eisenbardt, online
A10: 15:00-16:30 | B10: Wybrane techniki SI, wykład, A. Mikitiuk, s. 308/21
A11: 16:45-18:15
A12: 18:30 -20.00
A13: ='I rok MAT'!A13 -> ZJAZD 2 - ZDALNIE
B14: ='I rok MAT'!B14 -> sobota, 10.10.2026 | D14: ='I rok MAT'!D14 -> niedziela, 11.10.2026
B15: ZDALNIE | D15: ZDALNIE
A16: 08:00-09:30 | B16: Graphs: models, algorithms and processes, wykład, F. Guinand, online | D16: Graphs: models, algorithms and processes, wykład, F. Guinand, online
A17: 09:45-11:15 | B17: Graphs: models, algorithms and processes, lab., F. Guinand, online | D17: Graphs: models, algorithms and processes, lab., F. Guinand, online
A18: 11:30-13:00 | B18: Bazy danych, lab., T. Eisenbardt, online | D18: Bazy danych, lab., T. Eisenbardt, online
A19: 13:15-14:45 | B19: Bazy danych, wykład, T. Eisenbardt, online | D19: Bazy danych, wykład, T. Eisenbardt, online
A20: 15:00-16:30 | B20: Bazy danych, wykład, T. Eisenbardt, online | D20: Zaawansowane programowanie w języku Python, konw., J.Kanturski, online
A21: 16:45-18:15 | B21: Sem. licencjackie, sem., T. Kulpa, online | C21: Sem. licencjackie, sem., K. Kosarava, online | D21: Zaawansowane programowanie w języku Python, lab., J.Kanturski, online
A22: 18:30 -20.00
A23: ='I rok MAT'!A23 -> ZJAZD 3
B24: ='I rok MAT'!B24 -> sobota, 17.10.2026 | D24: ='I rok MAT'!D24 -> niedziela, 18.10.2026
D25: ZDALNIE
A26: 08:00-09:30 | B26: Zaawansowane programowanie w języku Python, konw., J. Kanturski, s. 119/21 | D26: Bazy danych, wykład, T. Eisenbardt, online
A27: 09:45-11:15 | B27: Zaawansowane programowanie w języku Python, lab., J. Kanturski, s. 119/21 | D27: Bazy danych, wykład, T. Eisenbardt, online
A28: 11:30-13:00 | B28: Zaawansowane programowanie w języku Python, lab., J. Kanturski, s. 119/21 | D28: Graphs: models, algorithms and processes, wykład, F. Guinand, online
A29: 13:15-14:45 | B29: Wybrane techniki SI, lab., J. Kanturski, s. 119/21 | D29: Graphs: models, algorithms and processes, wykład, F. Guinand, online
A30: 15:00-16:30 | B30: Wybrane techniki SI, wykład, A. Mikitiuk, s. 308/21 | D30: Graphs: models, algorithms and processes, lab., F. Guinand, online
A31: 16:45-18:15
A32: 18:30 -20.00
A33: ='I rok MAT'!A33 -> ZJAZD 4
B34: ='I rok MAT'!B34 -> sobota, 7.11.2026 | D34: ='I rok MAT'!D34 -> niedziela, 8.11.2026
B35: ZDALNIE
A36: 08:00-09:30 | B36: Biznesowe zastosowania informatyki, wykład, T. Eisenbardt, online | D36: Zaawansowane programowanie w języku Python, konw., J. Kanturski, s. 119/21
A37: 09:45-11:15 | B37: Biznesowe zastosowania informatyki, lab., T. Eisenbardt, online | D37: Zaawansowane programowanie w języku Python, lab., J. Kanturski, s. 119/21
A38: 11:30-13:00 | B38: Bazy danych, lab., T. Eisenbardt, online | D38: Wybrane techniki SI, lab., J. Kanturski, s. 119/21
A39: 13:15-14:45 | B39: Bazy danych, lab., T. Eisenbardt, online | D39: Wybrane techniki SI, wykład, A. Mikitiuk, s. 308/21
A40: 15:00-16:30
A41: 16:45-18:15
A42: 18:30 -20.00
A43: ='I rok MAT'!A43 & " - ZDALNIE" -> ZJAZD 5 - ZDALNIE
B44: ='I rok MAT'!B44 -> sobota, 14.11.2026 | D44: ='I rok MAT'!D44 -> niedziela, 15.11.2026
B45: ZDALNIE | D45: ZDALNIE
A46: 08:00-09:30 | B46: Sem. licencjackie, sem., T. Kulpa, online | D46: Graphs: models, algorithms and processes, wykład, F. Guinand, online
A47: 09:45-11:15 | B47: Sem. licencjackie, sem., T. Kulpa, online | D47: Graphs: models, algorithms and processes, lab., F. Guinand, online
A48: 11:30-13:00 | B48: Bazy danych, wykład, T. Eisenbardt, online | D48: Graphs: models, algorithms and processes, lab., F. Guinand, online
A49: 13:15-14:45 | B49: Bazy danych, lab., T. Eisenbardt, online | D49: Biznesowe zastosowania informatyki, wykład, T. Eisenbardt, online
A50: 15:00-16:30 | B50: Graphs: models, algorithms and processes, wykład, F. Guinand, online | D50: Biznesowe zastosowania informatyki, lab., T. Eisenbardt, online
A51: 16:45-18:15 | B51: Graphs: models, algorithms and processes, lab., F. Guinand, online | D51: Biznesowe zastosowania informatyki, wykład, T. Eisenbardt, online
A52: 18:30 -20.00
A53: ='I rok MAT'!A53 -> ZJAZD 6
B54: ='I rok MAT'!B54 -> sobota, 21.11.2026 | D54: ='I rok MAT'!D54 -> niedziela, 22.11.2026
D55: ZDALNIE
A56: 08:00-09:30 | D56: Biznesowe zastosowania informatyki, wykład, T. Eisenbardt, online
A57: 09:45-11:15 | B57: Wybrane techniki SI, wykład, A. Mikitiuk, s. 225/21 | D57: Biznesowe zastosowania informatyki, lab., T. Eisenbardt, online
A58: 11:30-13:00 | B58: Projekt zespołowy, konw., J. Kanturski, s. 119/21 | D58: Biznesowe zastosowania informatyki, lab., T. Eisenbardt, online
A59: 13:15-14:45 | B59: Wybrane techniki SI, lab., J. Kanturski, s. 119/21 | D59: Bazy danych, lab., T. Eisenbardt, online
A60: 15:00-16:30 | B60: Zaawansowane programowanie w języku Python, konw., J. Kanturski, s. 119/21 | D60: Projekt zespołowy, konw., J. Kanturski, online
A61: 16:45-18:15 | B61: Zaawansowane programowanie w języku Python, konw., J. Kanturski, s. 119/21
A62: 18:30 -20.00
A63: ='I rok MAT'!A63 -> ZJAZD 7
B64: ='I rok MAT'!B64 -> sobota, 5.12.2026 | D64: ='I rok MAT'!D64 -> niedziela, 6.12.2026
D65: ZDALNIE
A66: 08:00-09:30 | D66: Graphs: models, algorithms and processes, wykład, F. Guinand, online
A67: 09:45-11:15 | B67: Wybrane techniki SI, wykład, A. Mikitiuk, s. 225/21 | D67: Graphs: models, algorithms and processes, lab., F. Guinand, online
A68: 11:30-13:00 | B68: Wybrane techniki SI, lab., J. Kanturski, s. 119/21 | D68: Biznesowe zastosowania informatyki, wykład, T. Eisenbardt, online
A69: 13:15-14:45 | B69: Zaawansowane programowanie w języku Python, lab., J. Kanturski, s. 119/21 | D69: Bazy danych, wykład, T. Eisenbardt, online
A70: 15:00-16:30 | B70: Sem. licencjackie, sem., T. Kulpa, s. 203/21 | C70: Sem. licencjackie, sem., K. Kosarava, s. 225/21 | D70: Bazy danych, wykład, T. Eisenbardt, online
A71: 16:45-18:15 | B71: Sem. licencjackie, sem., T. Kulpa, s. 203/21 | C71: Sem. licencjackie, sem., K. Kosarava, s. 225/21 | D71: Projekt zespołowy, konw., J. Kanturski, online
A72: 18:30 -20.00 | B72: Sem. licencjackie, sem., T. Kulpa, s. 203/21 | C72: Sem. licencjackie, sem., K. Kosarava, s. 225/21
A73: ='I rok MAT'!A73 -> ZJAZD 8
B74: ='I rok MAT'!B74 -> sobota, 12.12.2026 | D74: ='I rok MAT'!D74 -> niedziela, 13.12.2026
B75: ZDALNIE
A76: 08:00-09:30 | B76: Biznesowe zastosowania informatyki, wykład, T. Eisenbardt, online | D76: Zaawansowane programowanie w języku Python, konw., J. Kanturski, s. 119/21
A77: 09:45-11:15 | B77: Biznesowe zastosowania informatyki, lab., T. Eisenbardt, online | D77: Zaawansowane programowanie w języku Python, konw., J. Kanturski, s. 119/21
A78: 11:30-13:00 | B78: Biznesowe zastosowania informatyki, lab., T. Eisenbardt, online | D78: Zaawansowane programowanie w języku Python, lab., J. Kanturski, s. 119/21
A79: 13:15-14:45 | B79: Bazy danych, lab., T. Eisenbardt, online | D79: Zaawansowane programowanie w języku Python, lab., J. Kanturski, s. 119/21
A80: 15:00-16:30 | B80: Sem. licencjackie, sem., T. Kulpa, online | C80: Sem. licencjackie, sem., K. Kosarava, online
A81: 16:45-18:15 | C81: Sem. licencjackie, sem., K. Kosarava, online
A82: 18:30 -20.00
A83: ='I rok MAT'!A83 -> ZJAZD 9 - ZDALNIE
B84: ='I rok MAT'!B84 -> sobota, 19.12.2026 | D84: ='I rok MAT'!D84 -> niedziela, 20.12.2026
B85: ZDALNIE | D85: ZDALNIE
A86: 08:00-09:30 | B86: Biznesowe zastosowania informatyki, wykład, T. Eisenbardt, online | D86: Bazy danych, wykład, T. Eisenbardt, online
A87: 09:45-11:15 | B87: Biznesowe zastosowania informatyki, wykład, T. Eisenbardt, online | D87: Bazy danych, wykład, T. Eisenbardt, online
A88: 11:30-13:00 | B88: Biznesowe zastosowania informatyki, lab., T. Eisenbardt, online
A89: 13:15-14:45 | B89: Graphs: models, algorithms and processes, wykład, F. Guinand, online | D89: Bazy danych, lab., T. Eisenbardt, online
A90: 15:00-16:30 | B90: Graphs: models, algorithms and processes, wykład, F. Guinand, online
A91: 16:45-18:15 | B91: Graphs: models, algorithms and processes, lab., F. Guinand, online
A92: 18:30-20.00
A93: ='I rok MAT'!A93 -> ZJAZD 10
B94: ='I rok MAT'!B94 -> sobota, 9.01.2027 | D94: ='I rok MAT'!D94 -> niedziela, 10.01.2027
D95: ZDALNIE
A96: 08:00-09:30 | B96: Wybrane techniki SI, lab., J. Kanturski, s. 119/21 | D96: Bazy danych, lab., T. Eisenbardt, online
A97: 09:45-11:15 | B97: Projekt zespołowy, konw., J. Kanturski, s. 119/21 | D97: Bazy danych, lab., T. Eisenbardt, online
A98: 11:30-13:00 | B98: Zaawansowane programowanie w języku Python, konw., J. Kanturski, s. 119/21 | D98: Biznesowe zastosowania informatyki, lab., T. Eisenbardt, online
A99: 13:15-14:45 | C99: Sem. licencjackie, sem., K. Kosarava, s. 203/21 | D99: Graphs: models, algorithms and processes, wykład, F. Guinand, online
A100: 15:00-16:30 | D100: Graphs: models, algorithms and processes, lab., F. Guinand, online
...
