Workbook

Sheet I rok MAT
B1: I rok MATEMATYKA
B2: semestr zimowy 2026/2027
A3: ZJAZD 1
B4: sobota, 3.10.2026 | D4: niedziela, 4.10.2026
D5: ZDALNIE
A6: 08:00-09:30 | B6: Spotkanie z władzami Wydziału, Dzień organizacyjny, godz. 9.30-11.00, s. 108/21 | D6: Analiza matematyczna I, wykład, M. Grochowski, online
A7: 09:45-11:15 | D7: Analiza matematyczna I, wykład, M. Grochowski, online
A8: 11:30-13:00 | B8: Elementy logiki i teorii mnogości, wykład, S. Turek, s. 108/21 | D8: Analiza matematyczna I, wykład, M. Grochowski, do 12:15, online
A9: 13:15-14:45 | B9: Elementy logiki i teorii mnogości, wykład, S. Turek, s. 108/21 | D9: Wprowadzenie do filozofii (Zajęcia z bloku H ), J. Filcek, do 17:15, online
A10: 15:00-16:30
A11: 16:45-18:15
A12: 18:30 -20.00
A13: ZJAZD 2 - ZDALNIE
B14: sobota, 10.10.2026 | D14: niedziela, 11.10.2026
B15: ZDALNIE | D15: ZDALNIE
A16: 08:00-09:30 | B16: Analiza matematyczna I, ćw., B. Tkacz, online | D16: Analiza matematyczna I, wykład, M. Grochowski, online
A17: 09:45-11:15 | B17: Analiza matematyczna I, ćw., B. Tkacz, online | D17: Analiza matematyczna I, wykład, M. Grochowski, online
A18: 11:30-13:00 | B18: Algebra liniowa, wykład, H. Grzebuła, online | D18: Analiza matematyczna I, wykład, M. Grochowski, do 12:15, online
A19: 13:15-14:45 | B19: Algebra liniowa, wykład, H. Grzebuła, online | D19: Wybrane zagadnienia prawa prywatnego. Studium przypadku (Zajęcia z bloku H), B. Kałdon do 17:15, online
A20: 15:00-16:30 | B20: Algebra liniowa, ćw., H. Grzebuła, online
A21: 16:45-18:15 | B21: Algebra liniowa, ćw., H. Grzebuła, online
A22: 18:30 -20.00
A23: ZJAZD 3
B24: sobota, 17.10.2026 | D24: niedziela, 18.10.2026
A26: 08:00-09:30 | B26: Analiza matematyczna I, ćw., B. Tkacz, s. 203/21
A27: 09:45-11:15 | B27: Analiza matematyczna I, ćw., B. Tkacz, s. 203/22 | D27: Elementy logiki i teorii mnogości, wykład, S. Turek, s. 202/21
A28: 11:30-13:00 | B28: Kultura i technika studiowania, J. Kołota, s. 116/21 | D28: Elementy logiki i teorii mnogości, wykład, S. Turek, s. 202/21
A29: 13:15-14:45 | B29: Analiza matematyczna I, wykład, M. Grochowski, s. 116/21 | D29: Algebra liniowa, wykład, H. Grzebuła, s. 203/21
A30: 15:00-16:30 | B30: Analiza matematyczna I, wykład, M. Grochowski, s. 116/21 | D30: Algebra liniowa, ćw., H. Grzebuła, s. 203/21
A31: 16:45-18:15 | D31: Algebra liniowa, ćw., H. Grzebuła, s. 203/22
A32: 18:30 -20.00
A33: ZJAZD 4
B34: sobota, 7.11.2026 | D34: niedziela, 8.11.2026
A36: 08:00-09:30 | B36: Analiza matematyczna I, ćw., B. Tkacz, s. 203/21 | D36: Elem. log. i teorii mnog., ćw., A. Łukasik, s. 308/21
A37: 09:45-11:15 | B37: Analiza matematyczna I, ćw., B. Tkacz, s. 203/21 | D37: Elem. log. i teorii mnog., ćw., A. Łukasik, s. 308/22
A38: 11:30-13:00 | B38: Analiza matematyczna I, ćw., B. Tkacz, s. 203/21 | D38: Analiza matematyczna I, wykład, M. Grochowski, s. 203/21
A39: 13:15-14:45 | B39: Elem. log. i teorii mnog., ćw., A. Łukasik, s. 203/21 | D39: Analiza matematyczna I, wykład, M. Grochowski, s. 203/21
A40: 15:00-16:30 | B40: Elem. log. i teorii mnog., ćw., A. Łukasik, s. 203/21
A41: 16:45-18:15
A42: 18:30 -20.00
...

Sheet II rok MAT
B1: II rok MATEMATYKA
B2: ='I rok MAT'!B2 -> semestr zimowy 2026/2027
A3: ='I rok MAT'!A3 -> ZJAZD 1
B4: ='I rok MAT'!B4 -> sobota, 3.10.2026 | D4: ='I rok MAT'!D4 -> niedziela, 4.10.2026
A6: 08:00-09:30
A7: 09:45-11:15 | B7: Ochrona własności intelektualnej* | D7: Rachunek prawdopodobieństwa I, wykład, T. Kulpa, s. 116/21
A8: 11:30-13:00 | B8: Algebra, wykład, T. Weiss, s. 116/21 | D8: Rachunek prawdopodobieństwa I, wykład, T. Kulpa, s. 116/21
A9: 13:15-14:45 | B9: Algebra, wykład, T. Weiss, s. 116/21 | D9: Rachunek prawdopodobieństwa I, ćw., T. Kulpa, s. 116/21
A10: 15:00-16:30 | B10: Algebra, ćw., T. Weiss, s. 116/21 | D10: Rachunek prawdopodobieństwa I, ćw., T. Kulpa, s. 116/21
A11: 16:45-18:15 | B11: Algebra, ćw., T. Weiss, s. 116/21
A12: 18:30 -20.00
A13: ='I rok MAT'!A13 -> ZJAZD 2 - ZDALNIE
B14: ='I rok MAT'!B14 -> sobota, 10.10.2026 | D14: ='I rok MAT'!D14 -> niedziela, 11.10.2026
B15: ZDALNIE | D15: ZDALNIE
A16: 08:00-09:30 | B16: Analiza matematyczna III, wykład, L. Sidz, online
A17: 09:45-11:15 | B17: Analiza matematyczna III, wykład, L. Sidz, online | D17: Rachunek prawdopodobieństwa I, wykład, T. Kulpa, online
A18: 11:30-13:00 | B18: Analiza matematyczna III, ćw., M. Suwińska, online | D18: Rachunek prawdopodobieństwa I, wykład, T. Kulpa, online
A19: 13:15-14:45 | B19: Analiza matematyczna III, ćw., M. Suwińska, online | D19: Rachunek prawdopodobieństwa I, ćw., T. Kulpa, online
A20: 15:00-16:30 | B20: Wprowadzenie do topologii i jej zastosowań, wykład, S. Turek, online | D20: Rachunek prawdopodobieństwa I, ćw., T. Kulpa, online
A21: 16:45-18:15 | B21: Przygotowanie do praktyk studenckich, kon., M. Suwińska, online
A22: 18:30 -20.00
A23: ='I rok MAT'!A23 -> ZJAZD 3
B24: ='I rok MAT'!B24 -> sobota, 17.10.2026 | D24: ='I rok MAT'!D24 -> niedziela, 18.10.2026
A26: 08:00-09:30 | B26: Analiza matematyczna III, ćw., M. Suwińska, od 8:45, s. 202/21 | D26: Wprowadzenie do topologii i jej zastosowań, wykład, S. Turek, s. 202/21
A27: 09:45-11:15 | B27: Analiza matematyczna III, ćw., M. Suwińska, s. 202/21 | D27: Analiza matematyczna III, wykład, L. Sidz, s. 116/21
A28: 11:30-13:00 | B28: Analiza matematyczna III, ćw., M. Suwińska, s. 202/21 | D28: Analiza matematyczna III, wykład, L. Sidz, s. 116/21
A29: 13:15-14:45 | B29: Wprowadzenie do topologii i jej zastosowań, wykład, S. Turek, s. 202/21 | D29: Laboratorium Mathematica, lab., F. Rupniewski, s. 119/21
A30: 15:00-16:30 | B30: Wprowadzenie do topologii i jej zastosowań, ćw., S. Turek, s. 202/21 | D30: Laboratorium Mathematica, lab., F. Rupniewski, s. 119/21
A31: 16:45-18:15 | B31: Wprowadzenie do topologii i jej zastosowań, ćw., S. Turek, s. 202/21
A32: 18:30 -20.00
A33: ='I rok MAT'!A33 -> ZJAZD 4
B34: ='I rok MAT'!B34 -> sobota, 7.11.2026 | D34: ='I rok MAT'!D34 -> niedziela, 8.11.2026
A36: 08:00-09:30 | B36: Analiza matematyczna III, ćw., M. Suwińska, s. 202/21
A37: 09:45-11:15 | B37: Analiza matematyczna III, ćw., M. Suwińska, s. 202/21
A38: 11:30-13:00 | B38: Analiza matematyczna III, wykład, L. Sidz, s. 202/21 | D38: Algebra, wykład, T. Weiss, s. 116/21
A39: 13:15-14:45 | B39: Analiza matematyczna III, wykład, L. Sidz, s. 202/21 | D39: Algebra, wykład, T. Weiss, s. 116/21
A40: 15:00-16:30 | B40: Analiza matematyczna III, wykład, L. Sidz, do 15:45, s. 202/21 | D40: Algebra, ćw., T. Weiss, s. 116/21
A41: 16:45-18:15 | D41: Algebra, ćw., T. Weiss, s. 116/21
A42: 18:30 -20.00
A43: ='I rok MAT'!A43 -> ZJAZD 5
...

Sheet III rok MAT
B1: III rok MATEMATYKA
B2: ='I rok MAT'!B2 -> semestr zimowy 2026/2027
A3: ='I rok MAT'!A3 -> ZJAZD 1
B4: ='I rok MAT'!B4 -> sobota, 3.10.2026 | E4: ='I rok MAT'!D4 -> niedziela, 4.10.2026
A6: 08:00-09:30 | B6: Analiza zespolona, wykład, A. Panasyuk, s. 308A/21 | E6: Podstawy aksjomatycznej teorii mnogości - zaj. fakult., wykład, S. Turek, s. 202/21
A7: 09:45-11:15 | B7: Analiza zespolona, wykład, A. Panasyuk, s. 308A/21 | E7: Podstawy aksjomatycznej teorii mnogości - zaj. fakult., wykład, S. Turek, s. 202/21
A8: 11:30-13:00 | B8: Analiza zespolona, ćw., A. Panasyuk, s. 308A/21 | E8: Podstawy aksjomatycznej teorii mnogości - zaj. fakult., ćw., S.Turek, s. 202/21
A9: 13:15-14:45 | B9: Modelowanie matematyczne w biologii i medycynie, wykład, Ł. Mioduszewski, s. 308A/21 | E9: Podstawy aksjomatycznej teorii mnogości - zaj. fakult., ćw., S.Turek, s. 202/21
A10: 15:00-16:30 | B10: Modelowanie matematyczne w biologii i medycynie, wykład, Ł. Mioduszewski, s. 308A/21
A11: 16:45-18:15 | B11: Modelowanie mat. w biologii i medycynie, ćw. , Ł. Mioduszewski, s. 308A/21
A12: 18:30 -20.00
A13: ='I rok MAT'!A13 -> ZJAZD 2 - ZDALNIE
B14: ='I rok MAT'!B14 -> sobota, 10.10.2026 | E14: ='I rok MAT'!D14 -> niedziela, 11.10.2026
B15: ZDALNIE | E15: ZDALNIE
A16: 08:00-09:30 | B16: Podstawy aksjomatycznej teorii mnogości - zaj. fakult., wykład, S.Turek, online | E16: Struktury generyczne, wykład, W. Kubiś, online
A17: 09:45-11:15 | B17: Sem. lic., M. Suwińska, online | C17: Sem. lic., S. Turek, online | D17: Sem. lic., K. Rutkowski, online | E17: Struktury generyczne, wykład, W. Kubiś, online
A18: 11:30-13:00 | B18: Podstawy aksjomatycznej teorii mnogości - zaj. fakult., ćw., S.Turek, online | E18: Struktury generyczne, ćw., W. Kubiś, online
A19: 13:15-14:45 | B19: Bazy danych, wykład, T. Eisenbardt, online | E19: Bazy danych, wykład, T. Eisenbardt, online
A20: 15:00-16:30 | B20: Bazy danych, wykład, T. Eisenbardt, online | E20: Bazy danych, lab., T. Eisenbardt, online
A21: 16:45-18:15 | B21: Bazy danych, lab., T. Eisenbardt, online | E21: Bazy danych, lab., T. Eisenbardt, online
A22: 18:30 -20.00
A23: ='I rok MAT'!A23 -> ZJAZD 3
B24: ='I rok MAT'!B24 -> sobota, 17.10.2026 | E24: ='I rok MAT'!D24 -> niedziela, 18.10.2026
E25: ZDALNIE
A26: 08:00-09:30 | B26: Analiza zespolona, wykład, A. Panasyuk, online | E26: Bazy danych, wykład, T. Eisenbardt, online
A27: 09:45-11:15 | B27: Analiza zespolona, wykład, A. Panasyuk, online | E27: Bazy danych, wykład, T. Eisenbardt, online
A28: 11:30-13:00 | B28: Analiza zespolona, ćw., A. Panasyuk, od 12:15, online | E28: Bazy danych, lab., T. Eisenbardt, online
A29: 13:15-14:45 | B29: Analiza zespolona, ćw., A. Panasyuk, online | E29: Struktury generyczne, wykład, W. Kubiś, online
A30: 15:00-16:30 | B30: Analiza zespolona, ćw., A. Panasyuk, do 15:45, online | E30: Struktury generyczne, ćw., W. Kubiś, online
A31: 16:45-18:15 | E31: Struktury generyczne, ćw., W. Kubiś, online
A32: 18:30 -20.00
A33: ='I rok MAT'!A33 -> ZJAZD 4
B34: ='I rok MAT'!B34 -> sobota, 7.11.2026 | E34: ='I rok MAT'!D34 -> niedziela, 8.11.2026
A36: 08:00-09:30 | B36: Analiza zespolona, wykład, A. Panasyuk, s. 308A/21 | E36: Podstawy aksjomatycznej teorii mnogości - zaj. fakult., wykład, S. Turek, s. 202/21
A37: 09:45-11:15 | B37: Analiza zespolona, ćw., A. Panasyuk, s. 308A/21 | E37: Podstawy aksjomatycznej teorii mnogości - zaj. fakult., wykład, S. Turek, s. 202/21
A38: 11:30-13:00 | B38: Sem. lic., M. Suwińska, s.225/21 | C38: Sem. lic., S. Turek, s.308A/21 | D38: Sem. lic., K. Rutkowski, s.308/21 | E38: Podstawy aksjomatycznej teorii mnogości - zaj. fakult., ćw., S.Turek, s. 202/21
A39: 13:15-14:45 | B39: Sem. lic., M. Suwińska, s.225/21 | C39: Sem. lic., S. Turek, s.308A/21 | D39: Sem. lic., K. Rutkowski, s.308/21 | E39: Podstawy aksjomatycznej teorii mnogości - zaj. fakult., ćw., S.Turek, s. 202/21
A40: 15:00-16:30 | B40: Podstawy aksjomatycznej teorii mnogości - zaj. fakult., wykład, S.Turek, s. 308A/21
A41: 16:45-18:15 | B41: Podstawy aksjomatycznej teorii mnogości - zaj. fakult., ćw., S.Turek, s. 308A/21
A42: 18:30 -20.00
...

Sheet II rok INF
B1: II rok INFORMATYKA
B2: ='I rok MAT'!B2 -> semestr zimowy 2026/2027
A3: ='I rok MAT'!A3 -> ZJAZD 1
B4: ='I rok MAT'!B4 -> sobota, 3.10.2026 | D4: ='I rok MAT'!D4 -> niedziela, 4.10.2026
A6: 08:00-09:30 | B6: Programowanie obiektowe, wykład, J. Gąsior, s. 308/21
A7: 09:45-11:15 | B7: Programowanie obiektowe, wykład, J. Gąsior, s. 308/21 | D7: Rachunek prawdopodobieństwa I, wykład, T. Kulpa, s. 116/21
A8: 11:30-13:00 | B8: Systemy operacyjne, wykład, A. Mikitiuk, s. 308/21 | D8: Rachunek prawdopodobieństwa I, wykład, T. Kulpa, s. 116/21
A9: 13:15-14:45 | B9: Systemy operacyjne, wykład, A. Mikitiuk, s. 308/21 | D9: Rachunek prawdopodobieństwa I, ćw., T. Kulpa, s. 116/21
A10: 15:00-16:30 | B10: Architektura systemów komputerowych, konw., P. Plebański, s. 033/21 | D10: Rachunek prawdopodobieństwa I, ćw., T. Kulpa, s.
A11: 16:45-18:15 | B11: Architektura systemów komputerowych, konw., P. Plebański, s. 033/21
A12: 18:30 -20.00
A13: ='I rok MAT'!A13 -> ZJAZD 2 - ZDALNIE
B14: ='I rok MAT'!B14 -> sobota, 10.10.2026 | D14: ='I rok MAT'!D14 -> niedziela, 11.10.2026
B15: ZDALNIE | D15: ZDALNIE
A16: 08:00-09:30 | B16: Programowanie obiektowe, wykład, J. Gąsior, online
A17: 09:45-11:15 | B17: Programowanie obiektowe, wykład, J. Gąsior, online | D17: Rachunek prawdopodobieństwa I, wykład, T. Kulpa, online
A18: 11:30-13:00 | B18: Programowanie obiektowe, lab., J. Kanturski, online | D18: Rachunek prawdopodobieństwa I, wykład, T. Kulpa, online
A19: 13:15-14:45 | B19: Programowanie obiektowe, lab., J. Kanturski, online | D19: Rachunek prawdopodobieństwa I, ćw., T. Kulpa, online
A20: 15:00-16:30 | D20: Rachunek prawdopodobieństwa I, ćw., T. Kulpa, online
A21: 16:45-18:15
A22: 18:30 -20.00
A23: ='I rok MAT'!A23 -> ZJAZD 3
B24: ='I rok MAT'!B24 -> sobota, 17.10.2026 | D24: ='I rok MAT'!D24 -> niedziela, 18.10.2026
A26: 08:00-09:30 | B26: Architektura systemów komputerowych, konw., P. Plebański, s. 033/21
A27: 09:45-11:15 | B27: Architektura systemów komputerowych, konw., P. Plebański, s. 033/21 | D27: Wprowadzenie do metod numerycznych, konw., F. Rupniewski, s. 308/21
A28: 11:30-13:00 | B28: Systemy operacyjne, wykład, A. Mikitiuk, s. 308/21 | D28: Wprowadzenie do metod numerycznych, konw., F. Rupniewski, s. 308/21
A29: 13:15-14:45 | B29: Systemy operacyjne, wykład, A. Mikitiuk, s. 308/21 | D29: Wprowadzenie do grafiki komputerowej, konw., J. Grzeszczak, s. 033/21
A30: 15:00-16:30 | B30: Systemy operacyjne, lab., M. Gwardys, s. 033/21 | D30: Wprowadzenie do grafiki komputerowej, konw., J. Grzeszczak, s. 033/21
A31: 16:45-18:15 | B31: Systemy operacyjne, lab., M. Gwardys, s. 033/21 | D31: Wprowadzenie do grafiki komputerowej, lab., J. Grzeszczak, s. 033/21
A32: 18:30 -20.00
A33: ='I rok MAT'!A33 -> ZJAZD 4
B34: ='I rok MAT'!B34 -> sobota, 7.11.2026 | D34: ='I rok MAT'!D34 -> niedziela, 8.11.2026
A36: 08:00-09:30 | B36: Architektura systemów komputerowych, konw., P. Plebański, s. 033/21 | D36: Systemy operacyjne, lab., M. Gwardys, s. 033/21
A37: 09:45-11:15 | B37: Architektura systemów komputerowych, konw., P. Plebański, s. 033/21 | D37: Systemy operacyjne, lab., M. Gwardys, s. 033/21
A38: 11:30-13:00 | B38: Architektura systemów komputerowych, lab., P. Plebański, s. 033/21 | D38: Systemy operacyjne, wykład, A. Mikitiuk, s. 308/21
A39: 13:15-14:45 | B39: Architektura systemów komputerowych, lab., P. Plebański, s. 033/21 | D39: Programowanie obiektowe, lab., J. Kanturski, s. 033/21
A40: 15:00-16:30 | D40: Systemy operacyjne, wykład, A. Mikitiuk, s. 308/21
A41: 16:45-18:15
A42: 18:30 -20.00
A43: ='I rok MAT'!A43 & " - ZDALNIE" -> ZJAZD 5 - ZDALNIE
...

Sheet III rok INF
B1: III rok INFORMATYKA
B2: ='I rok MAT'!B2 -> semestr zimowy 2026/2027
A3: ='I rok MAT'!A3 -> ZJAZD 1
B4: ='I rok MAT'!B4 -> sobota, 3.10.2026 | D4: ='I rok MAT'!D4 -> niedziela, 4.10.2026
D5: ZDALNIE
A6: 08:00-09:30 | B6: Zaawansowane programowanie w języku Python, konw., J. Kanturski, s. 119/21 | D6: Biznesowe zastosowania informatyki, wykład, T. Eisenbardt, online
A7: 09:45-11:15 | B7: Zaawansowane programowanie w języku Python, konw., J. Kanturski, s. 119/21 | D7: Biznesowe zastosowania informatyki, wykład, T. Eisenbardt, online
A8: 11:30-13:00 | B8: Zaawansowane programowanie w języku Python, lab., J. Kanturski, s. 119/21 | D8: Biznesowe zastosowania informatyki, lab., T. Eisenbardt, online
A9: 13:15-14:45 | B9: Projekt zespołowy, konw., J. Kanturski, s. 119/21 | D9: Biznesowe zastosowania informatyki, lab., T. Eisenbardt, online
A10: 15:00-16:30 | B10: Wybrane techniki SI, wykład, A. Mikitiuk, s. 308/21
A11: 16:45-18:15
A12: 18:30 -20.00
A13: ='I rok MAT'!A13 -> ZJAZD 2 - ZDALNIE
B14: ='I rok MAT'!B14 -> sobota, 10.10.2026 | D14: ='I rok MAT'!D14 -> niedziela, 11.10.2026
B15: ZDALNIE | D15: ZDALNIE
A16: 08:00-09:30 | B16: Graphs: models, algorithms and processes, wykład, F. Guinand, online | D16: Graphs: models, algorithms and processes, wykład, F. Guinand, online
A17: 09:45-11:15 | B17: Graphs: models, algorithms and processes, lab., F. Guinand, online | D17: Graphs: models, algorithms and processes, lab., F. Guinand, online
A18: 11:30-13:00 | B18: Bazy danych, lab., T. Eisenbardt, online | D18: Bazy danych, lab., T. Eisenbardt, online
A19: 13:15-14:45 | B19: Bazy danych, wykład, T. Eisenbardt, online | D19: Bazy danych, wykład, T. Eisenbardt, online
A20: 15:00-16:30 | B20: Bazy danych, wykład, T. Eisenbardt, online | D20: Zaawansowane programowanie w języku Python, konw., J.Kanturski, online
A21: 16:45-18:15 | B21: Sem. licencjackie, sem., T. Kulpa, online | C21: Sem. licencjackie, sem., K. Kosarava, online | D21: Zaawansowane programowanie w języku Python, lab., J.Kanturski, online
A22: 18:30 -20.00
A23: ='I rok MAT'!A23 -> ZJAZD 3
B24: ='I rok MAT'!B24 -> sobota, 17.10.2026 | D24: ='I rok MAT'!D24 -> niedziela, 18.10.2026
D25: ZDALNIE
A26: 08:00-09:30 | B26: Zaawansowane programowanie w języku Python, konw., J. Kanturski, s. 119/21 | D26: Bazy danych, wykład, T. Eisenbardt, online
A27: 09:45-11:15 | B27: Zaawansowane programowanie w języku Python, lab., J. Kanturski, s. 119/21 | D27: Bazy danych, wykład, T. Eisenbardt, online
A28: 11:30-13:00 | B28: Zaawansowane programowanie w języku Python, lab., J. Kanturski, s. 119/21 | D28: Graphs: models, algorithms and processes, wykład, F. Guinand, online
A29: 13:15-14:45 | B29: Wybrane techniki SI, lab., J. Kanturski, s. 119/21 | D29: Graphs: models, algorithms and processes, wykład, F. Guinand, online
A30: 15:00-16:30 | B30: Wybrane techniki SI, wykład, A. Mikitiuk, s. 308/21 | D30: Graphs: models, algorithms and processes, lab., F. Guinand, online
A31: 16:45-18:15
A32: 18:30 -20.00
A33: ='I rok MAT'!A33 -> ZJAZD 4
B34: ='I rok MAT'!B34 -> sobota, 7.11.2026 | D34: ='I rok MAT'!D34 -> niedziela, 8.11.2026
B35: ZDALNIE
A36: 08:00-09:30 | B36: Biznesowe zastosowania informatyki, wykład, T. Eisenbardt, online | D36: Zaawansowane programowanie w języku Python, konw., J. Kanturski, s. 119/21
A37: 09:45-11:15 | B37: Biznesowe zastosowania informatyki, lab., T. Eisenbardt, online | D37: Zaawansowane programowanie w języku Python, lab., J. Kanturski, s. 119/21
A38: 11:30-13:00 | B38: Bazy danych, lab., T. Eisenbardt, online | D38: Wybrane techniki SI, lab., J. Kanturski, s. 119/21
A39: 13:15-14:45 | B39: Bazy danych, lab., T. Eisenbardt, online | D39: Wybrane techniki SI, wykład, A. Mikitiuk, s. 308/21
A40: 15:00-16:30
...
